BEGIN:VCALENDAR
PRODID:-//Microsoft Corporation//Outlook MIMEDIR//EN
VERSION:2.0
METHOD:PUBLISH
BEGIN:VEVENT
DTSTART:20260423T140000
DTEND:20260423T150000
DESCRIPTION:The meeting will be held in person at East Bay Paratransit at 1750 Broadway, Oakland, CA 94612, 1st Floor conference room with simultaneous teleconference via Zoom: https://us06web.zoom.us/j/88942836685.
LOCATION:
SUMMARY:BART Accessibility Task Force
CATEGORIES:MEETING
END:VEVENT
END:VCALENDAR
