BEGIN:VCALENDAR
PRODID:-//Microsoft Corporation//Outlook MIMEDIR//EN
VERSION:2.0
METHOD:PUBLISH
BEGIN:VEVENT
DTSTART:20260428T160000
DTEND:20260428T170000
DESCRIPTION:This Meeting will be held in-person, with an option for public participation via teleconference.
LOCATION:BART Board Room, 2150 Webster Street, 1st Floor, Oakland, CA 94612. Zoom Link: https://us06web.zoom.us/j/82006892525
SUMMARY:Transit Security Advisory Committee 
CATEGORIES:MEETING
END:VEVENT
END:VCALENDAR
